BEGIN:VCALENDAR
VERSION:2.0
PRODID:-//The Trusts - ECPv6.15.17.1//NONSGML v1.0//EN
CALSCALE:GREGORIAN
METHOD:PUBLISH
X-ORIGINAL-URL:https://thetrusts.co.nz
X-WR-CALDESC:Events for The Trusts
REFRESH-INTERVAL;VALUE=DURATION:PT1H
X-Robots-Tag:noindex
X-PUBLISHED-TTL:PT1H
BEGIN:VTIMEZONE
TZID:Pacific/Auckland
BEGIN:STANDARD
TZOFFSETFROM:+1300
TZOFFSETTO:+1200
TZNAME:NZST
DTSTART:20250405T140000
END:STANDARD
BEGIN:DAYLIGHT
TZOFFSETFROM:+1200
TZOFFSETTO:+1300
TZNAME:NZDT
DTSTART:20250927T140000
END:DAYLIGHT
BEGIN:STANDARD
TZOFFSETFROM:+1300
TZOFFSETTO:+1200
TZNAME:NZST
DTSTART:20260404T140000
END:STANDARD
BEGIN:DAYLIGHT
TZOFFSETFROM:+1200
TZOFFSETTO:+1300
TZNAME:NZDT
DTSTART:20260926T140000
END:DAYLIGHT
BEGIN:STANDARD
TZOFFSETFROM:+1300
TZOFFSETTO:+1200
TZNAME:NZST
DTSTART:20270403T140000
END:STANDARD
BEGIN:DAYLIGHT
TZOFFSETFROM:+1200
TZOFFSETTO:+1300
TZNAME:NZDT
DTSTART:20270925T140000
END:DAYLIGHT
END:VTIMEZONE
BEGIN:VEVENT
DTSTART;TZID=Pacific/Auckland:20260502T190000
DTEND;TZID=Pacific/Auckland:20260502T230000
DTSTAMP:20260425T024720
CREATED:20260420T005634Z
LAST-MODIFIED:20260420T005634Z
UID:10000083-1777748400-1777762800@thetrusts.co.nz
SUMMARY:OLDSKOOL ReUnion
DESCRIPTION:Join us for a night of old skool classics at Mr. Illingsworth when DJ Bus and DJ Leemz take you on a musical journey through the best old school hits. Whether you’re a fan of classic hip-hop\, R&B\, or throwback party anthems\, we’ve got you covered! \nDrink specials all night! \nDon’t miss out on this epic night of nostalgia and good times. Bring your friends and let’s celebrate the music that shaped a generation! \nSee you on the dance floor! 🎵
URL:https://thetrusts.co.nz/event/oldskool-reunion/
LOCATION:Mr Illingsworth\, 571 Te Atatu Road\,\, Te Atatū Peninsula\, Auckland\, 0610\, New Zealand
ATTACH;FMTTYPE=image/jpeg:https://thetrusts.co.nz/wp-content/uploads/2026/04/MRI_Flashback-Block-Party_May-2026_Eventfinda.jpg
END:VEVENT
END:VCALENDAR